BEGIN:VCALENDAR
VERSION:2.0
PRODID:-//Equellness Center - ECPv6.15.18//NONSGML v1.0//EN
CALSCALE:GREGORIAN
METHOD:PUBLISH
X-WR-CALNAME:Equellness Center
X-ORIGINAL-URL:https://equellness.com
X-WR-CALDESC:Events for Equellness Center
REFRESH-INTERVAL;VALUE=DURATION:PT1H
X-Robots-Tag:noindex
X-PUBLISHED-TTL:PT1H
BEGIN:VTIMEZONE
TZID:UTC
BEGIN:STANDARD
TZOFFSETFROM:+0000
TZOFFSETTO:+0000
TZNAME:UTC
DTSTART:20250101T000000
END:STANDARD
END:VTIMEZONE
BEGIN:VEVENT
DTSTART;TZID=UTC:20260523T100000
DTEND;TZID=UTC:20260523T150000
DTSTAMP:20260422T124747
CREATED:20260422T084605Z
LAST-MODIFIED:20260422T084745Z
UID:4436-1779530400-1779548400@equellness.com
SUMMARY:Tack Sale & Equellness Wellness Fair Open House!
DESCRIPTION:Come spend a day where horses\, healing\, and community come together in the most beautiful way. \nBrowse an amazing selection of donated tack and supplies while soaking in the peaceful energy of our space. Throughout the day\, enjoy free wellness experiences\, including guided meditation\, live music\, and a heartfelt hello to our herd. \nEvery dollar raised goes directly to our Scholarship Fund\, ensuring cost is never a barrier for a child or family who needs what only horses can give. \nWe’d love for you to come meet us. Whether you’re searching for quality tack or simply drawn to something meaningful – this day is an open door. \nExplore our welcoming space\, meet our herd\, enjoy food for purchase from 11am–2pm\, and discover the mission that brings it all together. \nCome for the tack. Stay for the magic. Leave changed.
URL:https://equellness.com/event/tack-sale-equellness-wellness-fair-open-house/
END:VEVENT
END:VCALENDAR