BEGIN:VCALENDAR
VERSION:2.0
PRODID:-//Equellness Center - ECPv6.15.18//NONSGML v1.0//EN
CALSCALE:GREGORIAN
METHOD:PUBLISH
X-WR-CALNAME:Equellness Center
X-ORIGINAL-URL:https://equellness.com
X-WR-CALDESC:Events for Equellness Center
REFRESH-INTERVAL;VALUE=DURATION:PT1H
X-Robots-Tag:noindex
X-PUBLISHED-TTL:PT1H
BEGIN:VTIMEZONE
TZID:America/Denver
BEGIN:DAYLIGHT
TZOFFSETFROM:-0700
TZOFFSETTO:-0600
TZNAME:MDT
DTSTART:20250309T090000
END:DAYLIGHT
BEGIN:STANDARD
TZOFFSETFROM:-0600
TZOFFSETTO:-0700
TZNAME:MST
DTSTART:20251102T080000
END:STANDARD
BEGIN:DAYLIGHT
TZOFFSETFROM:-0700
TZOFFSETTO:-0600
TZNAME:MDT
DTSTART:20260308T090000
END:DAYLIGHT
BEGIN:STANDARD
TZOFFSETFROM:-0600
TZOFFSETTO:-0700
TZNAME:MST
DTSTART:20261101T080000
END:STANDARD
BEGIN:DAYLIGHT
TZOFFSETFROM:-0700
TZOFFSETTO:-0600
TZNAME:MDT
DTSTART:20270314T090000
END:DAYLIGHT
BEGIN:STANDARD
TZOFFSETFROM:-0600
TZOFFSETTO:-0700
TZNAME:MST
DTSTART:20271107T080000
END:STANDARD
END:VTIMEZONE
BEGIN:VEVENT
DTSTART;TZID=America/Denver:20260421T153000
DTEND;TZID=America/Denver:20260421T170000
DTSTAMP:20260421T111210
CREATED:20250625T084933Z
LAST-MODIFIED:20260326T180622Z
UID:10000064-1776785400-1776790800@equellness.com
SUMMARY:Equellness Kids Afterschool Program- Cohort 1
DESCRIPTION:Equellness Kids offers children ages 7-12 a welcoming afterschool experience where horses and nature support growth\, connection\, and belief-in-self. Through horsemanship\, riding\, and outdoor exploration\, children are invited to slow down\, participate fully\, and discover their strengths in a supportive community. \nAge: Children 7-12 yrs old \nRegister Here!  
URL:https://equellness.com/event/equellness-kids-afterschool-horse-program/2026-04-21/
CATEGORIES:Children's Programs
ATTACH;FMTTYPE=image/jpeg:https://equellness.com/wp-content/uploads/2026/02/4kids-scaled.jpg
END:VEVENT
END:VCALENDAR